BEGIN:VCALENDAR
VERSION:2.0
PRODID:-//eventon.com NONSGML v1.0//EN
CALSCALE:GREGORIAN
METHOD:PUBLISH
BEGIN:VEVENT
UID:69e76939e2c5b
DTSTAMP:20260421T121033Z
DTSTART:20180113T100000Z
DTEND:20180113T163000Z
LOCATION:The Fool on the Hill Via Bussago\,  1 - 25081 Bedizzole (BS)
SUMMARY:VIVERE PROFONDAMENTE LA RABBIA
DESCRIPTION:A pochi chilometri dal Lago di Garda\,  in un contesto idilliac
 o\,  5 ore di approfondimento interamente dedicate alla scoperta delle sor
 prendenti funzioni della rabbia e di come viverla nel quotidiano. La rabbia
  è un campanello d’allarme che ci segnala che alcuni bisogni profondi no
 n sono soddisfatti. Anziché essere direttamente in contatto[..]\nhttps://w
 ww.giacomopoleschi.com/wp/events/vivere-profondamente-la-rabbia/
URL:https://www.giacomopoleschi.com/wp/events/vivere-profondamente-la-rabbia/
END:VEVENT
END:VCALENDAR