BEGIN:VCALENDAR
VERSION:2.0
PRODID:-//eventon.com NONSGML v1.0//EN
CALSCALE:GREGORIAN
METHOD:PUBLISH
BEGIN:VEVENT
UID:69e75436b3a4c
DTSTAMP:20260421T104054Z
DTSTART:20181110T093000Z
DTEND:20181111T170000Z
LOCATION:Centro Esserci Edizioni via Silvano Caleri\,  13/A
SUMMARY:Ciclo Base CNV Novembre-Gennaio
DESCRIPTION:Questo ciclo di incontri è concepito come occasione per conosc
 ere ed acquisire le competenze base della Comunicazione Nonviolenta: il cic
 lo sarà composto da 6 giornate distribuite in 3 weekend da Novembre 2018
  a Gennaio 2019 per un totale di 42 ore\,  durante le quali andremo alla 
 scoperta della Comunicazione Nonviolenta – Linguaggio Giraffa® a[..]\nht
 tps://www.giacomopoleschi.com/wp/events/ciclo-base-cnv-novembre-gennaio/
URL:https://www.giacomopoleschi.com/wp/events/ciclo-base-cnv-novembre-gennaio/
END:VEVENT
END:VCALENDAR