BEGIN:VCALENDAR
VERSION:2.0
PRODID:-//eventon.com NONSGML v1.0//EN
CALSCALE:GREGORIAN
METHOD:PUBLISH
BEGIN:VEVENT
UID:69e73f520a8b6
DTSTAMP:20260421T091146Z
DTSTART:20181215T100000Z
DTEND:20181215T170000Z
LOCATION:NAMUR - Il posto del respiro Via Sigieri\,  6 20135
SUMMARY:Vivere Profondamente la Rabbia
DESCRIPTION:6 ore di approfondimento interamente dedicate alla scoperta del
 le sorprendenti funzioni della rabbia e di come viverla nel quotidiano. La 
 rabbia è un campanello d’allarme che ci segnala che alcuni bisogni profo
 ndi non sono soddisfatti. Anziché essere direttamente in contatto con i no
 stri bisogni insoddisfatti\,  siamo intrappolati nella nostra testa\, [..]\
 nhttps://www.giacomopoleschi.com/wp/events/vivere-profondamente-la-rabbia-2
 /
URL:https://www.giacomopoleschi.com/wp/events/vivere-profondamente-la-rabbia-2/
END:VEVENT
END:VCALENDAR