BEGIN:VCALENDAR
VERSION:2.0
PRODID:-//eventon.com NONSGML v1.0//EN
CALSCALE:GREGORIAN
METHOD:PUBLISH
BEGIN:VEVENT
UID:69e728a95ecf1
DTSTAMP:20260421T073505Z
DTSTART:20181216T100000Z
DTEND:20181216T170000Z
LOCATION:NAMUR - Il posto del respiro Via Sigieri\,  6 20135
SUMMARY:Liberarsi dal Senso di Colpa
DESCRIPTION:Il senso di colpa vi fa sentire impotenti\,  stressati e come s
 e non foste adeguati ai vostri compiti? Fate fatica a perdonarvi per le cos
 e che avete fatto? Vi sentite in colpa quando cercate di soddisfare i vostr
 i bisogni? In questo Modulo interattivo  scopriremo la vita presente in no
 i e[..]\nhttps://www.giacomopoleschi.com/wp/events/liberarsi-dal-senso-di-c
 olpa/
URL:https://www.giacomopoleschi.com/wp/events/liberarsi-dal-senso-di-colpa/
END:VEVENT
END:VCALENDAR