BEGIN:VCALENDAR
VERSION:2.0
PRODID:-//eventon.com NONSGML v1.0//EN
CALSCALE:GREGORIAN
METHOD:PUBLISH
BEGIN:VEVENT
UID:69e70f230611a
DTSTAMP:20260421T054611Z
DTSTART:20181215T100000Z
DTEND:20181216T170000Z
LOCATION:NAMUR - Il posto del respiro Via Sigieri\,  6 20135
SUMMARY:Vivere Profondamente la Rabbia e Liberarsi dal Senso di Colpa
DESCRIPTION:Partecipa ai due moduli interattivi al costo di € 120.00 an
 zichè € 150.00: VIVERE PROFONDAMENTE LA RABBIA – 15 dicembre\,  Mila
 no e LIBERARSI DAL SENSO DI COLPA – 16 dicembre\,  Milano Per la partec
 ipazione ai moduli è richiesta una conoscenza base del processo CNV. MODUL
 O INTERATTIVO VIVERE PROFONDAMENTE LA RABBIA La rabbia è un campanello di[
 ..]\nhttps://www.giacomopoleschi.com/wp/events/vivere-profondamente-la-rabb
 ia-e-liberarsi-dal-senso-di-colpa/
URL:https://www.giacomopoleschi.com/wp/events/vivere-profondamente-la-rabbia-e-liberarsi-dal-senso-di-colpa/
END:VEVENT
END:VCALENDAR