BEGIN:VCALENDAR
VERSION:2.0
PRODID:-//eventon.com NONSGML v1.0//EN
CALSCALE:GREGORIAN
METHOD:PUBLISH
BEGIN:VEVENT
UID:69e6f613108ac
DTSTAMP:20260421T035915Z
DTSTART:20181124T093000Z
DTEND:20181125T170000Z
LOCATION:"Il Giardino delle Fate" - Nido d'Infanzia Sistemico Integrato via Benedetta Bianchi Porro\,  12 - Forlì
SUMMARY:Le Parole che Nutrono il Cuore
DESCRIPTION:Il Giardino delle fate Propone “Ri-còrdo di Essere Bisogno\,
   Parola\,  Vita” Percorso di Formazione in “Comunicazione Nonviolenta
  Richiamare a cuore la possibilità di contattare sé stessi nei propri b
 isogni e sentimenti\,  verso l’apertura e l’accoglienza dell’altro. R
 esponsabili dell’espressione di ciò che si presenta vivo in noi\,  nella
  consapevolezza di chi[..]\nhttps://www.giacomopoleschi.com/wp/events/le-pa
 role-che-nutrono-il-cuore/
URL:https://www.giacomopoleschi.com/wp/events/le-parole-che-nutrono-il-cuore/
END:VEVENT
END:VCALENDAR