BEGIN:VCALENDAR
VERSION:2.0
PRODID:-//eventon.com NONSGML v1.0//EN
CALSCALE:GREGORIAN
METHOD:PUBLISH
BEGIN:VEVENT
UID:69e6de8fc969f
DTSTAMP:20260421T021855Z
DTSTART:20190223T093000Z
DTEND:20190224T170000Z
LOCATION:"Il Giardino delle Fate" - Nido d'Infanzia Sistemico Integrato via Benedetta Bianchi Porro\,  12 - Forlì
SUMMARY:Con-tatto con sé e l’altro: accoglienza e ri-conoscimento
DESCRIPTION:Il Giardino delle fate Propone “Ri-còrdo di Essere Bisogno\,
   Parola\,  Vita” Percorso di Formazione in “Comunicazione Nonviolenta
  Richiamare a cuore la possibilità di contattare sé stessi nei propri b
 isogni e sentimenti\,  verso l’apertura e l’accoglienza dell’altro. R
 esponsabili dell’espressione di ciò che si presenta vivo in noi\,  nella
  consapevolezza di chi[..]\nhttps://www.giacomopoleschi.com/wp/events/con-t
 atto-con-se-e-laltro-accoglienza-e-ri-conoscimento/
URL:https://www.giacomopoleschi.com/wp/events/con-tatto-con-se-e-laltro-accoglienza-e-ri-conoscimento/
END:VEVENT
END:VCALENDAR