BEGIN:VCALENDAR
VERSION:2.0
PRODID:-//eventon.com NONSGML v1.0//EN
CALSCALE:GREGORIAN
METHOD:PUBLISH
BEGIN:VEVENT
UID:69e6c3e065db9
DTSTAMP:20260421T002504Z
DTSTART:20190330T093000Z
DTEND:20190331T170000Z
LOCATION:"Il Giardino delle Fate" - Nido d'Infanzia Sistemico Integrato via Benedetta Bianchi Porro\,  12 - Forlì
SUMMARY:Il cambiamento nella responsabilità di un'espressione onesta
DESCRIPTION:Il Giardino delle fate Propone “Ri-còrdo di Essere Bisogno\,
   Parola\,  Vita” Percorso di Formazione in “Comunicazione Nonviolenta
  Richiamare a cuore la possibilità di contattare sé stessi nei propri b
 isogni e sentimenti\,  verso l’apertura e l’accoglienza dell’altro. R
 esponsabili dell’espressione di ciò che si presenta vivo in noi\,  nella
  consapevolezza di chi[..]\nhttps://www.giacomopoleschi.com/wp/events/il-ca
 mbiamento-nella-responsabilita-di-unespressione-onesta/
URL:https://www.giacomopoleschi.com/wp/events/il-cambiamento-nella-responsabilita-di-unespressione-onesta/
END:VEVENT
END:VCALENDAR