BEGIN:VCALENDAR
VERSION:2.0
PRODID:-//eventon.com NONSGML v1.0//EN
CALSCALE:GREGORIAN
METHOD:PUBLISH
BEGIN:VEVENT
UID:69e6af13322c7
DTSTAMP:20260420T225619Z
DTSTART:20190111
DTEND:20190112
LOCATION:Dongguk University Dongguk University - Manhae-maeul  Manhae-ro 91
SUMMARY:2019 KOREA IIT - INTERNATIONAL INTENSIVE TRAINING
DESCRIPTION:This International Intensive Training (IIT) is a 9-day\,  Nonvi
 olent Communication “immersion experience.” It is a residential worksho
 p led by a team of experienced CNVC certified trainers. The purpose of this
  IIT training is to offer people the opportunity to live the process of Mar
 shall Rosenberg’s Nonviolent Communication in an international[..]\nhttps
 ://www.giacomopoleschi.com/wp/events/2019-korea-iit-international-intensive
 -training/
URL:https://www.giacomopoleschi.com/wp/events/2019-korea-iit-international-intensive-training/
END:VEVENT
END:VCALENDAR