BEGIN:VCALENDAR
VERSION:2.0
PRODID:-//eventon.com NONSGML v1.0//EN
CALSCALE:GREGORIAN
METHOD:PUBLISH
BEGIN:VEVENT
UID:69e698427245f
DTSTAMP:20260420T211858Z
DTSTART:20180407
DTEND:20180408
LOCATION:Corsendonk De Linde Kasteelstraat 67
SUMMARY:Life Enriching Education LAB - Belgium 2018
DESCRIPTION: The Center for Nonviolent Communication presents a new offeri
 ng in the CNVC training line up to further Marshall B. Rosenberg’s commit
 ment to education\,  the LEE LAB APRIL 7 – APRIL 13\,  2018 This NVC Lab 
 is created for everybody interested in Life-Enriching Education\,  includin
 g school and kindergarten teachers\,  child care[..]\nhttps://www.giacomopo
 leschi.com/wp/events/life-enriching-education-lab-belgium-2018/
URL:https://www.giacomopoleschi.com/wp/events/life-enriching-education-lab-belgium-2018/
END:VEVENT
END:VCALENDAR