BEGIN:VCALENDAR
VERSION:2.0
PRODID:-//eventon.com NONSGML v1.0//EN
CALSCALE:GREGORIAN
METHOD:PUBLISH
BEGIN:VEVENT
UID:69e67fd3c602a
DTSTAMP:20260420T193443Z
DTSTART:20190323T093000Z
DTEND:20190324T170000Z
LOCATION:Scuola Elementale di Arte Ostetrica Lungarno Colombo\,  28A
SUMMARY:Ciclo Approfondimento CNV Marzo-Maggio (Tre Weekend)
DESCRIPTION:Il ciclo di incontri è concepito come occasione per approfondi
 re ed imparare a padroneggiare sempre più l’approccio CNV\,  affrontando
  argomenti specifici e consolidando al contempo le basi già acquisite. Il 
 ciclo si svolgerà da Marzo a Maggio 2019 e sarà composto da 3 weekend\, 
  per un totale di 42 ore di formazione. La[..]\nhttps://www.giacomopolesc
 hi.com/wp/events/ciclo-approfondimento-cnv-marzo-maggio/
URL:https://www.giacomopoleschi.com/wp/events/ciclo-approfondimento-cnv-marzo-maggio/
END:VEVENT
END:VCALENDAR