BEGIN:VCALENDAR
VERSION:2.0
PRODID:-//eventon.com NONSGML v1.0//EN
CALSCALE:GREGORIAN
METHOD:PUBLISH
BEGIN:VEVENT
UID:69e66a3817a9e
DTSTAMP:20260420T180232Z
DTSTART:20190422
DTEND:20190423
LOCATION:Paulinen Hof Seminarhotel Kuhlowitzer Dorfstraße 1
SUMMARY:LEE Lab Berlino - Life Enriching Education Laboratory
DESCRIPTION:The Life Enriching Education Laboratory (LEE LAB)  is uniquely
  designed to offer both a structured and open learning environment. The LEE
  LAB is an opportunity to share\,  explore and learn together so that in th
 ese 6 days you will have  the experience of co-creating a life-enriching l
 earning community and truly[..]\nhttps://www.giacomopoleschi.com/wp/events/
 lee-lab-berlino-life-enriching-education-laboratory/
URL:https://www.giacomopoleschi.com/wp/events/lee-lab-berlino-life-enriching-education-laboratory/
END:VEVENT
END:VCALENDAR