BEGIN:VCALENDAR
VERSION:2.0
PRODID:-//eventon.com NONSGML v1.0//EN
CALSCALE:GREGORIAN
METHOD:PUBLISH
BEGIN:VEVENT
UID:69e654b1c9ef0
DTSTAMP:20260420T163041Z
DTSTART:20190622T093000Z
DTEND:20190623T170000Z
LOCATION:Il Punto di Svolta Corso Raffaello\,  8
SUMMARY:Educare con la Comunicazione Nonviolenta
DESCRIPTION:Il seminario teorico-pratico è composto da una parte teorica
  di introduzione e approfondimento delle basi CNV\,  e da momenti dedicati 
 ad esercitazioni pratiche\,  in modo da poter applicare concretamente quant
 o appreso a livello teorico. Questo seminario è rivolto a tutti i genitori
 \,  insegnanti\,  educatori interessati a conoscere meglio la Comunicazione
  Nonviolenta –[..]\nhttps://www.giacomopoleschi.com/wp/events/educare-con
 -la-comunicazione-nonviolenta/
URL:https://www.giacomopoleschi.com/wp/events/educare-con-la-comunicazione-nonviolenta/
END:VEVENT
END:VCALENDAR