BEGIN:VCALENDAR
VERSION:2.0
PRODID:-//eventon.com NONSGML v1.0//EN
CALSCALE:GREGORIAN
METHOD:PUBLISH
BEGIN:VEVENT
UID:69e640adba891
DTSTAMP:20260420T150517Z
DTSTART:20190510T153000Z
DTEND:20190512T170000Z
LOCATION:Casa Diocesana di Lucca Via Della Chiesa 427/M
SUMMARY:Coltivare la Comunicazione Nonviolenta
DESCRIPTION:Tre giornate di seminario residenziale\,  facilitate da Giacomo
  Poleschi e Petra Quast\,  per chiarire\,  esplorare e nutrire la propria m
 otivazione nel condividere la Comunicazione Nonviolenta di Marshall Rosenbe
 rg. Quale opportunità di crescita ci offre il dare e ricevere feedback con
  la CNV? Dedicheremo spazio\,  da concordare anticipatamente\,  a chi desid
 era[..]\nhttps://www.giacomopoleschi.com/wp/events/condividere-la-comunicaz
 ione-nonviolenta/
URL:https://www.giacomopoleschi.com/wp/events/condividere-la-comunicazione-nonviolenta/
END:VEVENT
END:VCALENDAR