BEGIN:VCALENDAR
VERSION:2.0
PRODID:-//eventon.com NONSGML v1.0//EN
CALSCALE:GREGORIAN
METHOD:PUBLISH
BEGIN:VEVENT
UID:69e62a6bc0210
DTSTAMP:20260420T133019Z
DTSTART:20191012T100000Z
DTEND:20191013T180000Z
LOCATION:Casa di Isabella Buchignani via di Colombaia 457
SUMMARY:La Danza della Relazione - Biodanza e CNV
DESCRIPTION:Stage di due giorni con Biodanza e Comunicazione Nonviolenta Es
 primersi con il corpo e con la parola in modo integrato e connesso ai propr
 i bisogni e all&#8217;ascolto dell&#8217;altro. La relazione è come una da
 nza: ogni danzatore propone un passo e attende la risposta\,  l&#8217;altro
  passo di danza. La danza della[..]\nhttps://www.giacomopoleschi.com/wp/eve
 nts/la-danza-della-relazione-biodanza-e-cnv/
URL:https://www.giacomopoleschi.com/wp/events/la-danza-della-relazione-biodanza-e-cnv/
END:VEVENT
END:VCALENDAR