BEGIN:VCALENDAR
VERSION:2.0
PRODID:-//eventon.com NONSGML v1.0//EN
CALSCALE:GREGORIAN
METHOD:PUBLISH
BEGIN:VEVENT
UID:69e614aeb1942
DTSTAMP:20260420T115734Z
DTSTART:20190928T090000Z
DTEND:20190929T180000Z
LOCATION:Associazione Parlare Pace Onlus - a scuola in libertà via delle Sezioni 4278
SUMMARY:Educazione Reciproca - Introduzione alla Comunicazione Nonviolenta
DESCRIPTION:Weekend di introduzione alla Comunicazione Nonviolenta di Marsh
 all Rosenberg ed a come integrarla nell’educazione. Facilitato da Giacomo
  Poleschi\,  formatore in Comunicazione Nonviolenta con il CNVC www.cnvc.or
 g. Quota di prtecipazione € 110. Max 25 partecipanti. (rimangono 3 posti 
 disponibili) Per maggiori informazioni: Giacomo Poleschi 393 9948718 &#8211
 ; giacomo.poleschi@gmail.com\nhttps://www.giacomopoleschi.com/wp/events/ed
 ucazione-reciproca/
URL:https://www.giacomopoleschi.com/wp/events/educazione-reciproca/
END:VEVENT
END:VCALENDAR