BEGIN:VCALENDAR
VERSION:2.0
PRODID:-//eventon.com NONSGML v1.0//EN
CALSCALE:GREGORIAN
METHOD:PUBLISH
BEGIN:VEVENT
UID:69e6341630c57
DTSTAMP:20260420T141134Z
DTSTART:20200222T093000Z
DTEND:20200223T170000Z
LOCATION:Scuola Elementale di Arte Ostetrica Lungarno Colombo\,  28A
SUMMARY:Ciclo Base CNV Febbraio-Aprile (Tre Weekend)
DESCRIPTION:Questo ciclo di incontri è concepito come occasione per conosc
 ere ed acquisire le competenze base della Comunicazione Nonviolenta: il cic
 lo sarà composto da 6 giornate distribuite in 3 weekend da febbraio ad ap
 rile per un totale di 42 ore\,  durante le quali Giacomo Poleschi\,  For
 matore Certificato a livello internazionale\,  guiderà i partecipanti all
 a scoperta della[..]\nhttps://www.giacomopoleschi.com/wp/events/ciclo-base-
 cnv-febbraio-aprile-tre-weekend/
URL:https://www.giacomopoleschi.com/wp/events/ciclo-base-cnv-febbraio-aprile-tre-weekend/
END:VEVENT
END:VCALENDAR