BEGIN:VCALENDAR
VERSION:2.0
PRODID:-//eventon.com NONSGML v1.0//EN
CALSCALE:GREGORIAN
METHOD:PUBLISH
BEGIN:VEVENT
UID:69e5ea92a985c
DTSTAMP:20260420T085754Z
DTSTART:20200523T093000Z
DTEND:20200524T170000Z
LOCATION:Casa Diocesana di Lucca Via Della Chiesa 427/M
SUMMARY:Il Potere di Rabbia\,  Colpa e Vergogna
DESCRIPTION:Il POTERE di Rabbia\,  Colpa e Vergogna Trasforma la rabbia\,  
 la colpa e la vergogna in un’energia potente e creativa e crea la vita ch
 e desideri!  Workshop in Comunicazione Nonviolenta con Shona Cameron e San
 drine Miesch Due giorni di CNV con l’attenzione al nostro mondo interiore
  per un cambiamento che[..]\nhttps://www.giacomopoleschi.com/wp/events/rabb
 ia-colpa-vergogna/
URL:https://www.giacomopoleschi.com/wp/events/rabbia-colpa-vergogna/
END:VEVENT
END:VCALENDAR