BEGIN:VCALENDAR
VERSION:2.0
PRODID:-//eventon.com NONSGML v1.0//EN
CALSCALE:GREGORIAN
METHOD:PUBLISH
BEGIN:VEVENT
UID:69e614ba587d7
DTSTAMP:20260420T115746Z
DTSTART:20201017T093000Z
DTEND:20201018T170000Z
LOCATION:The Breath of Life - Osteopatia via Nazario Sauro\,  513
SUMMARY:Empatia e Comunicazione
DESCRIPTION:Empatia e Comunicazione Aprirsi al dialogo del cuore e costruir
 e relazioni con la Comunicazione Nonviolenta. Workshop di Introduzione alla
  Comunicazione Nonviolenta Con Elena Masi e Giacomo Poleschi A Lucca un pri
 mo incontro sul tema &#8220;Empatia e Comunicazione &#8211; aprirsi al dial
 ogo del cuore e costruire relazioni con la Comunicazione Nonviolenta&#8221;
 \, [..]\nhttps://www.giacomopoleschi.com/wp/events/empatia-e-comunicazione-
 lucca/
URL:https://www.giacomopoleschi.com/wp/events/empatia-e-comunicazione-lucca/
END:VEVENT
END:VCALENDAR