BEGIN:VCALENDAR
VERSION:2.0
PRODID:-//eventon.com NONSGML v1.0//EN
CALSCALE:GREGORIAN
METHOD:PUBLISH
BEGIN:VEVENT
UID:69e62a6c4624e
DTSTAMP:20260420T133020Z
DTSTART:20210223T160000Z
DTEND:20210225T190000Z
LOCATION:
SUMMARY:Mini Life-Enriching Education Online-Lab
DESCRIPTION:This Event is for everybody interested in exploring and applyin
 g NVC in Education\,  including adult students\,  kindergarten teachers\,  
 schools and university teachers\,  child care staff\,  counsellors\,  admin
 istrators\,  educators in youth programs\,  parents\,  NVC trainers\,  Cert
 ification Candidates\,  and all NVC practitioners. During three online sess
 ions we share and learn together about[..]\nhttps://www.giacomopoleschi.com
 /wp/events/mini-life-enriching-education-online-lab/
URL:https://www.giacomopoleschi.com/wp/events/mini-life-enriching-education-online-lab/
END:VEVENT
END:VCALENDAR