BEGIN:VCALENDAR
VERSION:2.0
PRODID:-//eventon.com NONSGML v1.0//EN
CALSCALE:GREGORIAN
METHOD:PUBLISH
BEGIN:VEVENT
UID:69e64313db786
DTSTAMP:20260420T151531Z
DTSTART:20220624
DTEND:20220625
LOCATION:Guest and Holiday House St. Carolus
SUMMARY:2022 TANZANIA IIT - INTERNATIONAL INTENSIVE TRAINING
DESCRIPTION:The Tanzania International Intensive Training is a unique oppor
 tunity to experience 9 days of living\,  learning\,  and practicing Nonviol
 ent Communication principles and skills with a vibrant community of engaged
  NVC participants from Africa\,  Asia\,  and from all over the world. Situa
 ted in the breathtaking vicinity of Mt. Kilimanjaro\,  Ngorongoro Crater[..
 ]\nhttps://www.giacomopoleschi.com/wp/events/2021-tanzania-iit-internationa
 l-intensive-training/
URL:https://www.giacomopoleschi.com/wp/events/2021-tanzania-iit-international-intensive-training/
END:VEVENT
END:VCALENDAR