BEGIN:VCALENDAR
VERSION:2.0
PRODID:-//eventon.com NONSGML v1.0//EN
CALSCALE:GREGORIAN
METHOD:PUBLISH
BEGIN:VEVENT
UID:69e656a84a777
DTSTAMP:20260420T163904Z
DTSTART:20210327T203000Z
DTEND:20210329T040000Z
LOCATION:Centro Mosaica Corte Anna Magnani\,  1
SUMMARY:Coltivare l'Onestà\,  Nutrire la Curiosità
DESCRIPTION:Coltivare l&#8217;Onestà\,  Nutrire la Curiosità Introduzione
  alla Comunicazione Nonviolenta Con Giacomo Poleschi Imparare ad ascoltare\
 ,  a esprimere quello di cui hai bisogno e ciò che desideri\,  mettere in 
 parole i tuoi sogni\,  gestire i conflitti della vita quotidiana\,  sono ab
 ilità utili per vivere e per coltivare le proprie relazioni. In[..]\nhttps
 ://www.giacomopoleschi.com/wp/events/coltivare-lonesta-nutrire-la-curiosita
 -march21/
URL:https://www.giacomopoleschi.com/wp/events/coltivare-lonesta-nutrire-la-curiosita-march21/
END:VEVENT
END:VCALENDAR