BEGIN:VCALENDAR
VERSION:2.0
PRODID:-//eventon.com NONSGML v1.0//EN
CALSCALE:GREGORIAN
METHOD:PUBLISH
BEGIN:VEVENT
UID:69e66d1380d7a
DTSTAMP:20260420T181443Z
DTSTART:20210422T170000Z
DTEND:20210422T190000Z
LOCATION:
SUMMARY:Presentazione del Materiale Visfera per la CNV
DESCRIPTION:Presentazione online dei materiali Visfera per la Comunicazione
  Nonviolenta Con Marianne Göthlin\,  En Dolci e Giacomo Poleschi Siamo lie
 ti di invitarti a scoprire con noi il materiale che abbiamo creato apposita
 mente per presentare e praticare la Comunicazione Nonviolenta. Durante la s
 erata potrai: * Assistere alla presentazione del materiale Visfera e[..]\nh
 ttps://www.giacomopoleschi.com/wp/events/visfera-online-presentazione/
URL:https://www.giacomopoleschi.com/wp/events/visfera-online-presentazione/
END:VEVENT
END:VCALENDAR