BEGIN:VCALENDAR
VERSION:2.0
PRODID:-//eventon.com NONSGML v1.0//EN
CALSCALE:GREGORIAN
METHOD:PUBLISH
BEGIN:VEVENT
UID:69e684b171539
DTSTAMP:20260420T195529Z
DTSTART:20210626T073000Z
DTEND:20210627T150000Z
LOCATION:Tenuta dello Scompiglio via di Vorno 67
SUMMARY:Coltivare l'Onestà\,  Nutrire la Curiosità - Lucca
DESCRIPTION:Coltivare l&#8217;Onestà\,  Nutrire la Curiosità Introduzione
  alla Comunicazione Nonviolenta Con Giacomo Poleschi Imparare ad ascoltare\
 ,  a esprimere quello di cui hai bisogno e ciò che desideri\,  mettere in 
 parole i tuoi sogni\,  gestire i conflitti della vita quotidiana\,  sono ab
 ilità utili per vivere e per coltivare le proprie relazioni. In[..]\nhttps
 ://www.giacomopoleschi.com/wp/events/coltivare-lonesta-nutrire-la-curiosita
 -lucca/
URL:https://www.giacomopoleschi.com/wp/events/coltivare-lonesta-nutrire-la-curiosita-lucca/
END:VEVENT
END:VCALENDAR