BEGIN:VCALENDAR
VERSION:2.0
PRODID:-//eventon.com NONSGML v1.0//EN
CALSCALE:GREGORIAN
METHOD:PUBLISH
BEGIN:VEVENT
UID:69e69d30eeb52
DTSTAMP:20260420T214000Z
DTSTART:20220205T083000Z
DTEND:20220206T160000Z
LOCATION:B&amp;B “La Casa dell’Arcobaleno” Vicolo Pola 4 – 21014
SUMMARY:Preferisci avere ragione o essere felice?
DESCRIPTION:Preferisci avere ragione o essere felice? Weekend di introduzio
 ne alla Comunicazione Nonviolenta Con Giacomo Poleschi Imparare ad ascoltar
 e\,  a esprimere quello di cui hai bisogno e ciò che desideri\,  mettere i
 n parole i tuoi sogni\,  gestire i conflitti della vita quotidiana\,  sono 
 abilità utili per vivere e per coltivare le[..]\nhttps://www.giacomopolesc
 hi.com/wp/events/preferisci-avere-ragione-o-essere-felice/
URL:https://www.giacomopoleschi.com/wp/events/preferisci-avere-ragione-o-essere-felice/
END:VEVENT
END:VCALENDAR