BEGIN:VCALENDAR
VERSION:2.0
PRODID:-//eventon.com NONSGML v1.0//EN
CALSCALE:GREGORIAN
METHOD:PUBLISH
BEGIN:VEVENT
UID:69e6b2279cbd9
DTSTAMP:20260420T230927Z
DTSTART:20220201T160000Z
DTEND:20220203T190000Z
LOCATION:
SUMMARY:Mini Life-Enriching Education Online-Lab
DESCRIPTION:We are very excited to start the new year with yet another Life
 -Enriching Education Lab. From the 1st to 3rd of February 2022 we will exp
 lore the essence of mutual and life-enriching education together with our g
 reat international community in an online workshop. There are still a few 
 spots available so come[..]\nhttps://www.giacomopoleschi.com/wp/events/mini
 -life-enriching-education-online-lab-2/
URL:https://www.giacomopoleschi.com/wp/events/mini-life-enriching-education-online-lab-2/
END:VEVENT
END:VCALENDAR