BEGIN:VCALENDAR
VERSION:2.0
PRODID:-//eventon.com NONSGML v1.0//EN
CALSCALE:GREGORIAN
METHOD:PUBLISH
BEGIN:VEVENT
UID:69e6e0d3260bb
DTSTAMP:20260421T022835Z
DTSTART:20220715
DTEND:20220716
LOCATION:Castello di Coldrano Via del Castello\,  45 – 39021
SUMMARY:2022 ITALIA IIT - INTERNATIONAL INTENSIVE TRAINING
DESCRIPTION:Per sperimentare il potere di una comunità vivente Il Training
  Intensivo Internazionale in Comunicazione Nonviolenta (CNV) è stato creat
 o dal suo fondatore\,  Marshall B. Rosenberg\,  e da un team di formatori c
 on l&#8217;intenzione di portare persone da tutto il mondo a sperimentare i
 l potere di una comunità vivente che ha[..]\nhttps://www.giacomopoleschi.c
 om/wp/events/2022-italia-iit-international-intensive-training/
URL:https://www.giacomopoleschi.com/wp/events/2022-italia-iit-international-intensive-training/
END:VEVENT
END:VCALENDAR