BEGIN:VCALENDAR
VERSION:2.0
PRODID:-//eventon.com NONSGML v1.0//EN
CALSCALE:GREGORIAN
METHOD:PUBLISH
BEGIN:VEVENT
UID:69e6e04a513b0
DTSTAMP:20260421T022618Z
DTSTART:20220910
DTEND:20220911
LOCATION:Agriturismo La Cerra S.S. 133 TEMPIO – PALAU km.12\, 500 Loc. Stazzo
SUMMARY:COMUNICAZIONE NONVIOLENTA IN SARDEGNA
DESCRIPTION:Un&#8217;avventura dentro e fuori di te Ti invitiamo a praticar
 e insieme la Comunicazione Nonviolenta (CNV) e a goderti unasettimana di va
 canza in una delle isole più belle del Mediterraneo È un&#8217;opportun
 ità per approfondire la tua conoscenza della CNV e per imparare a esprime
 rti in un modo che rendapiù facile la[..]\nhttps://www.giacomopoleschi.co
 m/wp/events/comunicazione-nonviolenta-in-sardegna/
URL:https://www.giacomopoleschi.com/wp/events/comunicazione-nonviolenta-in-sardegna/
END:VEVENT
END:VCALENDAR