BEGIN:VCALENDAR
VERSION:2.0
PRODID:-//eventon.com NONSGML v1.0//EN
CALSCALE:GREGORIAN
METHOD:PUBLISH
BEGIN:VEVENT
UID:69e6f7d12cf22
DTSTAMP:20260421T040641Z
DTSTART:20230311T083000Z
DTEND:20230312T160000Z
LOCATION:"Il Giardino delle Fate" - Nido d'Infanzia Sistemico Integrato via Benedetta Bianchi Porro\,  12 - Forlì
SUMMARY:Coltivare l'Onestà\,  Nutrire la Curiosità
DESCRIPTION:Coltivare l&#8217;Onestà\,  Nutrire la Curiosità Introduzione
  alla Comunicazione Nonviolenta Con Giacomo Poleschi e Daniela Mazzotta Imp
 arare ad ascoltare\,  a esprimere quello di cui hai bisogno e ciò che desi
 deri\,  mettere in parole i tuoi sogni\,  gestire i conflitti della vita qu
 otidiana\,  sono abilità utili per vivere e per coltivare le[..]\nhttps://
 www.giacomopoleschi.com/wp/events/coltivare-lonesta-nutrire-la-curiosita-fo
 rli23/
URL:https://www.giacomopoleschi.com/wp/events/coltivare-lonesta-nutrire-la-curiosita-forli23/
END:VEVENT
END:VCALENDAR