BEGIN:VCALENDAR
VERSION:2.0
PRODID:-//eventon.com NONSGML v1.0//EN
CALSCALE:GREGORIAN
METHOD:PUBLISH
BEGIN:VEVENT
UID:69e712ece96f4
DTSTAMP:20260421T060220Z
DTSTART:20230626
DTEND:20230627
LOCATION:Jonatunet Hestahagen 3\,  5627 Jondal\,  Norway
SUMMARY:2023 NORWAY IIT - INTERNATIONAL INTENSIVE TRAINING
DESCRIPTION:Finding Meaning and Coexistence in Times of Uncertainty The Fir
 st Ever International Intensive Training (IIT) in Norway On 26 June-5 July 
 2023\,  we invite you to the first ever International Intensive Training (I
 IT) in Nonviolent Communication (NVC\,  also known as the Giraffe Language)
  in Western Norway\,  at the gorgeous Hardangerfjord.[..]\nhttps://www.giac
 omopoleschi.com/wp/events/2023-norway-iit-international-intensive-training/
URL:https://www.giacomopoleschi.com/wp/events/2023-norway-iit-international-intensive-training/
END:VEVENT
END:VCALENDAR