BEGIN:VCALENDAR
VERSION:2.0
PRODID:-//eventon.com NONSGML v1.0//EN
CALSCALE:GREGORIAN
METHOD:PUBLISH
BEGIN:VEVENT
UID:69e728d200603
DTSTAMP:20260421T073546Z
DTSTART:20230411
DTEND:20230412
LOCATION:Școala Babel - Babel School\,  Timișoara\,  Romania Strada 1 Decembrie 1918 93\,  Timișoara 300566\,  Romania
SUMMARY:LEE Lab Timișoara - Romania - Life Enriching Education Laboratory
DESCRIPTION:Babel School Timișoara together with NVC in Education invites 
 you to Life-Enriching Education Lab 11. &#8211; 15. April 2023 Timișoara\,
   Romania Trainers and organisers: Corrylaura Van Bladel (Belgium)\,  Gabri
 ele Grunt (Austria)\,  Marianne Göthlin (Sweden) \,  Manuela Murariu (Roma
 nia) “You are welcome to be part of this NVC event where we[..]\nhttps://
 www.giacomopoleschi.com/wp/events/lee-lab-timisoara-romania-life-enriching-
 education-laboratory/
URL:https://www.giacomopoleschi.com/wp/events/lee-lab-timisoara-romania-life-enriching-education-laboratory/
END:VEVENT
END:VCALENDAR