BEGIN:VCALENDAR
VERSION:2.0
PRODID:-//eventon.com NONSGML v1.0//EN
CALSCALE:GREGORIAN
METHOD:PUBLISH
BEGIN:VEVENT
UID:69e741c6037b6
DTSTAMP:20260421T092214Z
DTSTART:20230325T083000Z
DTEND:20230326T150000Z
LOCATION:Associazione Parlare Pace aps - a scuola in libertà via delle Sezioni\,  4278 Bargecchia LU
SUMMARY:Navigare i conflitti  con bambini e adolescenti
DESCRIPTION:Navigare i conflitti con bambini e adolescenti Introduzione all
 a Comunicazione Nonviolenta Con Giacomo Poleschi Come genitori\,  educatori
 \,  adulti\,  i conflitti con i bambini e gli adolescenti sono all’ordine
  del giorno. Le idee che abbiamo sui “conflitti”\,  le nostre esperienz
 e vissute\,  consapevolmente o meno\,  influenzano come li affrontiamo e la
  qualità[..]\nhttps://www.giacomopoleschi.com/wp/events/navigare-i-conflit
 ti-con-bambini-e-adolescenti-bargecchia/
URL:https://www.giacomopoleschi.com/wp/events/navigare-i-conflitti-con-bambini-e-adolescenti-bargecchia/
END:VEVENT
END:VCALENDAR