BEGIN:VCALENDAR
VERSION:2.0
PRODID:-//eventon.com NONSGML v1.0//EN
CALSCALE:GREGORIAN
METHOD:PUBLISH
BEGIN:VEVENT
UID:69e7550c0ea77
DTSTAMP:20260421T104428Z
DTSTART:20230422T073000Z
DTEND:20230423T150000Z
LOCATION:"Il Giardino delle Fate" - Nido d'Infanzia Sistemico Integrato via Benedetta Bianchi Porro\,  12 - Forlì
SUMMARY:Navigare i conflitti  con bambini e adolescenti - Forlì
DESCRIPTION:Navigare i conflitti con bambini e adolescenti Introduzione all
 a Comunicazione Nonviolenta Con Giacomo Poleschi Come genitori\,  educatori
 \,  adulti\,  i conflitti con i bambini e gli adolescenti sono all’ordine
  del giorno. Le idee che abbiamo sui “conflitti”\,  le nostre esperienz
 e vissute\,  consapevolmente o meno\,  influenzano come li affrontiamo e la
  qualità[..]\nhttps://www.giacomopoleschi.com/wp/events/navigare-i-conflit
 ti-con-bambini-e-adolescenti-forli/
URL:https://www.giacomopoleschi.com/wp/events/navigare-i-conflitti-con-bambini-e-adolescenti-forli/
END:VEVENT
END:VCALENDAR