BEGIN:VCALENDAR
VERSION:2.0
PRODID:-//eventon.com NONSGML v1.0//EN
CALSCALE:GREGORIAN
METHOD:PUBLISH
BEGIN:VEVENT
UID:69e76f24ee1ab
DTSTAMP:20260421T123548Z
DTSTART:20230930T073000Z
DTEND:20231001T150000Z
LOCATION:Studio Traduzioni Modena Viale Medaglie D'Oro\,  30/A
SUMMARY:Andare oltre le critiche e la colpa - Comunicare con noi stessi e gli altri
DESCRIPTION:Andare oltre le critiche e la colpa Comunicare con noi stessi e
  gli altri Introduzione alla Comunicazione Nonviolenta Con Giacomo Poleschi
  Imparare ad ascoltare\,  a esprimere quello di cui hai bisogno e ciò che 
 desideri\,  mettere in parole i tuoi sogni\,  gestire i conflitti della vit
 a quotidiana\,  sono abilità utili[..]\nhttps://www.giacomopoleschi.com/wp
 /events/andare-oltre-le-critiche-e-la-colpa-comunicare-con-noi-stessi-e-gli
 -altri/
URL:https://www.giacomopoleschi.com/wp/events/andare-oltre-le-critiche-e-la-colpa-comunicare-con-noi-stessi-e-gli-altri/
END:VEVENT
END:VCALENDAR