BEGIN:VCALENDAR
VERSION:2.0
PRODID:-//eventon.com NONSGML v1.0//EN
CALSCALE:GREGORIAN
METHOD:PUBLISH
BEGIN:VEVENT
UID:69e7856820c9f
DTSTAMP:20260421T141048Z
DTSTART:20240323T090000Z
DTEND:20240324T160000Z
LOCATION:Oratorio di Loreto Via Massimiliano Kolbe - 24128 Bergamo
SUMMARY:Così diversi così umani - Introduzione alla Comunicazione Nonviolenta nell'educazione e nella genitorialità
DESCRIPTION:Così diversi così umani Introduzione alla Comunicazione Nonvi
 olenta nell&#8217;educazione e nella genitorialità Con Petra Quast e Giaco
 mo Poleschi Come educatrice\,  insegnante o genitore in questo seminario tr
 overai sostegno nel costruire e coltivare relazioni basate sulla fiducia\, 
  la cura e il rispetto reciproco. Esploreremo e sperimenteremo insieme come
  la CNV può[..]\nhttps://www.giacomopoleschi.com/wp/events/cosi-diversi-co
 si-umani-introduzione-alla-comunicazione-nonviolenta-nelleducazione-e-nella
 -genitorialita/
URL:https://www.giacomopoleschi.com/wp/events/cosi-diversi-cosi-umani-introduzione-alla-comunicazione-nonviolenta-nelleducazione-e-nella-genitorialita/
END:VEVENT
END:VCALENDAR