BEGIN:VCALENDAR
VERSION:2.0
PRODID:-//eventon.com NONSGML v1.0//EN
CALSCALE:GREGORIAN
METHOD:PUBLISH
BEGIN:VEVENT
UID:69e79a4a9409a
DTSTAMP:20260421T153954Z
DTSTART:20240927
DTEND:20240928
LOCATION:Youth Hostel Sayda Mortelgrund 8\,  09619 Sayda\,  Germany
SUMMARY:GERMANY 2024 - INTERNATIONAL INTENSIVE TRAINING
DESCRIPTION:CROSSING DEEP VALLEYS WITH EMPATHY AND LOVE International Inten
 sive Training (IIT) by the Center for Nonviolent Communication Join us for 
 this residential retreat in Sayda\,  Germany (27 September &#8211; 6 Octobe
 r 2024) that will help you bring nonviolence and peace into all areas of yo
 ur life. In this event\,  you[..]\nhttps://www.giacomopoleschi.com/wp/event
 s/germany-2024-international-intensive-training/
URL:https://www.giacomopoleschi.com/wp/events/germany-2024-international-intensive-training/
END:VEVENT
END:VCALENDAR