BEGIN:VCALENDAR
VERSION:2.0
PRODID:-//eventon.com NONSGML v1.0//EN
CALSCALE:GREGORIAN
METHOD:PUBLISH
BEGIN:VEVENT
UID:69e7b38226664
DTSTAMP:20260421T172730Z
DTSTART:20241107
DTEND:20241108
LOCATION:Monastero di San Lodovico
SUMMARY:Laboratorio di Educazione Reciproca - Costruire la classe che abbiamo sempre sognato
DESCRIPTION:NVC IN EDUCATION e Associazione Articolo 33 vi invitano a esplo
 rare e applicare la Comunicazione Nonviolenta (CNV) in ambito educativo al 
 Laboratorio di Educazione Reciproca Costruire la classe che abbiamo sempre 
 sognato Orvieto &#8211; dal 7 al 10 Novembre 2024 Argomenti del Laboratorio
 : Come vivere e imparare insieme nel rispetto[..]\nhttps://www.giacomopoles
 chi.com/wp/events/laboratorio-di-educazione-reciproca-costruire-la-classe-c
 he-abbiamo-sempre-sognato/
URL:https://www.giacomopoleschi.com/wp/events/laboratorio-di-educazione-reciproca-costruire-la-classe-che-abbiamo-sempre-sognato/
END:VEVENT
END:VCALENDAR