BEGIN:VCALENDAR
VERSION:2.0
PRODID:-//eventon.com NONSGML v1.0//EN
CALSCALE:GREGORIAN
METHOD:PUBLISH
BEGIN:VEVENT
UID:69e7c79756c67
DTSTAMP:20260421T185311Z
DTSTART:20250531T080000Z
DTEND:20250601T153000Z
LOCATION:Villaggio Turistico Alto Rabbi Via Fiorentina Ridolla 1\,  47010 Premilcuore FC\,  Italia
SUMMARY:Parlare onestamente senza criticare Ascoltare con curiosità senza sentire giudizi - Introduzione alla Comunicazione Nonviolenta
DESCRIPTION:Parlare onestamente senza criticare. Ascoltare con curiosità s
 enza sentire giudizi Introduzione alla Comunicazione Nonviolenta Imparare a
 d ascoltare\,  a esprimere con chiarezza quello di cui hai bisogno e ciò c
 he desideri\,  mettere in parole i tuoi sogni\,  gestire i conflitti della 
 vita quotidiana\,  sono abilità utili per vivere e per coltivare[..]\nhttp
 s://www.giacomopoleschi.com/wp/events/parlare-onestamente-senza-criticare-a
 scoltare-con-curiosita-senza-sentire-giudizi-introduzione-alla-comunicazion
 e-nonviolenta/
URL:https://www.giacomopoleschi.com/wp/events/parlare-onestamente-senza-criticare-ascoltare-con-curiosita-senza-sentire-giudizi-introduzione-alla-comunicazione-nonviolenta/
END:VEVENT
END:VCALENDAR