BEGIN:VCALENDAR
VERSION:2.0
PRODID:-//eventon.com NONSGML v1.0//EN
CALSCALE:GREGORIAN
METHOD:PUBLISH
BEGIN:VEVENT
UID:69e7db5520dbd
DTSTAMP:20260421T201725Z
DTSTART:20250603T153000Z
DTEND:20250607T153000Z
LOCATION:Centro Interdisciplinare Scienze per la Pace – Università di Pisa Via del Collegio Ricci\,  10 – 56126 Pisa
SUMMARY:Corso di Alta Formazione “La Comunicazione Nonviolenta: essere me\,  incontrare te” - Modulo 4 del II° ciclo - Pratica: le tre possibilità per la connessione - Liguaggio colloquiale dei bisogni
DESCRIPTION:Corso di Alta Formazione “La Comunicazione Nonviolenta: esser
 e me\,  incontrare te” &#8211; Modulo 4 del II° ciclo Pratica: le tre po
 ssibilità per la connessione &#8211; Liguaggio colloquiale dei bisogni Isc
 rizioni singoli moduli: dalla data sopra indicata fino al giorno precedent
 e l’avvio del modulo Requisiti di ammissione al II° ciclo: per essere a
 mmessi/e[..]\nhttps://www.giacomopoleschi.com/wp/events/corso-di-alta-forma
 zione-la-comunicazione-nonviolenta-essere-me-incontrare-te/
URL:https://www.giacomopoleschi.com/wp/events/corso-di-alta-formazione-la-comunicazione-nonviolenta-essere-me-incontrare-te/
END:VEVENT
END:VCALENDAR