BEGIN:VCALENDAR
VERSION:2.0
PRODID:-//eventon.com NONSGML v1.0//EN
CALSCALE:GREGORIAN
METHOD:PUBLISH
BEGIN:VEVENT
UID:69e7f3607a804
DTSTAMP:20260421T220000Z
DTSTART:20251025T080000Z
DTEND:20251026T160000Z
LOCATION:Aula VerdeBlu Mola di Capoliveri
SUMMARY:Parlare onestamente senza criticare Ascoltare con curiosità senza sentire giudizi - Introduzione alla Comunicazione Nonviolenta
DESCRIPTION:Parlare onestamente senza criticare. Ascoltare con curiosità s
 enza sentire giudizi Introduzione alla Comunicazione Nonviolenta Imparare a
 d ascoltare\,  a esprimere con chiarezza quello di cui hai bisogno e ciò c
 he desideri\,  mettere in parole i tuoi sogni\,  gestire i conflitti della 
 vita quotidiana\,  sono abilità utili per vivere e per coltivare[..]\nhttp
 s://www.giacomopoleschi.com/wp/events/parlare-onestamente-senza-criticare-a
 scoltare-con-curiosita-senza-sentire-giudizi-introduzione-alla-comunicazion
 e-nonviolenta-elba/
URL:https://www.giacomopoleschi.com/wp/events/parlare-onestamente-senza-criticare-ascoltare-con-curiosita-senza-sentire-giudizi-introduzione-alla-comunicazione-nonviolenta-elba/
END:VEVENT
END:VCALENDAR