BEGIN:VCALENDAR
VERSION:2.0
PRODID:-//eventon.com NONSGML v1.0//EN
CALSCALE:GREGORIAN
METHOD:PUBLISH
BEGIN:VEVENT
UID:69e808250bde7
DTSTAMP:20260421T232837Z
DTSTART:20251123
DTEND:20251124
LOCATION:Asia Plateau (MRA Center) Asia Plateau (MRA Centre)\,  Dhandeghar\,  Panchgani\,  Maharashtra 412805\,  India
SUMMARY:Reimagining Education - Mutual Education Learning Laboratory - India
DESCRIPTION:NVC Trust and Initiatives of change\,  India together with NVC 
 in Education invites you to Reimagining Education &#8211; Mutual Education 
 Learning Laboratory &#8211; India 23. &#8211; 26. November 2025 Asia Platea
 u\,  Panchgani\,  Maharashtra\,  India Trainers and organisers: Corrylaura 
 Van Bladel (Belgium)\,  Gabriele Grunt (Austria)\,  Marianne Göthlin (Swed
 en) \,  Manuela Murariu[..]\nhttps://www.giacomopoleschi.com/wp/events/reim
 agining-education-mutual-education-learning-laboratory-india/
URL:https://www.giacomopoleschi.com/wp/events/reimagining-education-mutual-education-learning-laboratory-india/
END:VEVENT
END:VCALENDAR