BEGIN:VCALENDAR
VERSION:2.0
PRODID:-//eventon.com NONSGML v1.0//EN
CALSCALE:GREGORIAN
METHOD:PUBLISH
BEGIN:VEVENT
UID:69e82cb1b815b
DTSTAMP:20260422T020433Z
DTSTART:20260202T163000Z
DTEND:20260207T163000Z
LOCATION:Centro Interdisciplinare Scienze per la Pace – Università di Pisa Via del Collegio Ricci\,  10 – 56126 Pisa
SUMMARY:In contatto con sé\,  in connessione con l'altro/a: introduzione alla comunicazione Nonviolenta - Corso di Alta Formazione
DESCRIPTION:Il Centro interdisciplinare Scienze per la pace dell’Universi
 tà di Pisa organizza ilCORSO DI ALTA FORMAZIONE Corso di Alta Formazione 
 La Comunicazione Nonviolenta: essere me\,  incontrare te” &#8211; Modul
 o 1 Ciclo Base In contatto con sé\,  in connessione con l&#8217;altro/a: i
 ntroduzione alla comunicazione Nonviolenta Nel primo modulo sperimenteremo 
 insieme come la[..]\nhttps://www.giacomopoleschi.com/wp/events/in-contatto-
 con-se-in-connessione-con-laltro-a-introduzione-alla-comunicazione-nonviole
 nta-corso-di-alta-formazione/
URL:https://www.giacomopoleschi.com/wp/events/in-contatto-con-se-in-connessione-con-laltro-a-introduzione-alla-comunicazione-nonviolenta-corso-di-alta-formazione/
END:VEVENT
END:VCALENDAR