BEGIN:VCALENDAR
VERSION:2.0
PRODID:-//eventon.com NONSGML v1.0//EN
CALSCALE:GREGORIAN
METHOD:PUBLISH
BEGIN:VEVENT
UID:69e82b88d57fc
DTSTAMP:20260422T015936Z
DTSTART:20260907T153000Z
DTEND:20260912T153000Z
LOCATION:Centro Interdisciplinare Scienze per la Pace – Università di Pisa Via del Collegio Ricci\,  10 – 56126 Pisa
SUMMARY:INTRODUZIONE AL CONSENSO SISTEMICO: DECISIONI SOSTENIBILI IN GRUPPI E ORGANIZZAZIONI
DESCRIPTION:Il Centro interdisciplinare Scienze per la pace dell’Universi
 tà di Pisa organizza ilCORSO DI ALTA FORMAZIONE Corso di Alta Formazione 
 La Comunicazione Nonviolenta: essere me\,  incontrare te” &#8211; Modul
 o 5 Ciclo di Approfondimento INTRODUZIONE AL CONSENSO SISTEMICO: DECISIONI 
 SOSTENIBILI IN GRUPPI E ORGANIZZAZIONI Quando si tratta di prendere decisio
 ni in un[..]\nhttps://www.giacomopoleschi.com/wp/events/introduzione-al-con
 senso-sistemico-decisioni-sostenibili-in-gruppi-e-organizzazioni/
URL:https://www.giacomopoleschi.com/wp/events/introduzione-al-consenso-sistemico-decisioni-sostenibili-in-gruppi-e-organizzazioni/
END:VEVENT
END:VCALENDAR