BEGIN:VCALENDAR
VERSION:2.0
PRODID:-//eventon.com NONSGML v1.0//EN
CALSCALE:GREGORIAN
METHOD:PUBLISH
BEGIN:VEVENT
UID:69e84220b82b7
DTSTAMP:20260422T033600Z
DTSTART:20260410T123000Z
DTEND:20260412T110000Z
LOCATION:Convento di San Cerbone Via San Cerbone O della Fornace\,  859\, 
SUMMARY:DALL’IO AL NOI E RITORNO. PRATICHE DI COMUNICAZIONE NONVIOLENTA PER LA RELAZIONE
DESCRIPTION:Il Centro interdisciplinare Scienze per la pace dell’Universi
 tà di Pisa organizza ilCORSO DI ALTA FORMAZIONE Corso di Alta Formazione 
 La Comunicazione Nonviolenta: essere me\,  incontrare te” &#8211; RESID
 ENZIALE DALL’IO AL NOI E RITORNO. PRATICHE DI COMUNICAZIONE NONVIOLENTA P
 ER LA RELAZIONE In questo residenziale sperimenteremo insieme come la CNV p
 uò guidarci[..]\nhttps://www.giacomopoleschi.com/wp/events/dallio-al-noi-e
 -ritorno-pratiche-di-comunicazione-nonviolenta-per-la-relazione/
URL:https://www.giacomopoleschi.com/wp/events/dallio-al-noi-e-ritorno-pratiche-di-comunicazione-nonviolenta-per-la-relazione/
END:VEVENT
END:VCALENDAR