BEGIN:VCALENDAR
VERSION:2.0
PRODID:-//eventon.com NONSGML v1.0//EN
CALSCALE:GREGORIAN
METHOD:PUBLISH
BEGIN:VEVENT
UID:69e8594d53d37
DTSTAMP:20260422T051453Z
DTSTART:20260509T073000Z
DTEND:20260510T150000Z
LOCATION:Libra Terra Creativa Via Santa Maria 33
SUMMARY:Parlare onestamente senza criticare Ascoltare con curiosità senza sentire giudizi - Introduzione alla Comunicazione Nonviolenta
DESCRIPTION:Parlare onestamente senza criticare. Ascoltare con curiosità s
 enza sentire giudizi Introduzione alla Comunicazione Nonviolenta Imparare a
 d ascoltare\,  a esprimere con chiarezza quello di cui hai bisogno e ciò c
 he desideri\,  mettere in parole i tuoi sogni\,  gestire i conflitti della 
 vita quotidiana\,  sono abilità utili per vivere e per coltivare[..]\nhttp
 s://www.giacomopoleschi.com/wp/events/parlare-onestamente-senza-criticare-a
 scoltare-con-curiosita-senza-sentire-giudizi-introduzione-alla-comunicazion
 e-nonviolenta-libra/
URL:https://www.giacomopoleschi.com/wp/events/parlare-onestamente-senza-criticare-ascoltare-con-curiosita-senza-sentire-giudizi-introduzione-alla-comunicazione-nonviolenta-libra/
END:VEVENT
END:VCALENDAR