BEGIN:VCALENDAR
VERSION:2.0
PRODID:-//eventon.com NONSGML v1.0//EN
CALSCALE:GREGORIAN
METHOD:PUBLISH
BEGIN:VEVENT
UID:69e86baa06d3e
DTSTAMP:20260422T063314Z
DTSTART:20260523T073000Z
DTEND:20260524T150000Z
LOCATION:"Il Giardino delle Fate" - Nido d'Infanzia Sistemico Integrato via Benedetta Bianchi Porro\,  12 - Forlì
SUMMARY:Dire NO\,  ricevere NO
DESCRIPTION:Dire NO\,  ricevere NO Comunicarlo con cura e chiarezza\,  dand
 o forma ai propri confini Riceverlo senza sentirlo come un rifiuto Workshop
  esperienziale di Comunicazione Nonviolenta con Giacomo Poleschi Esprimere 
 il proprio NO\,  ascoltando e rispettando i propri confini\,  senza rinunci
 are a sé stessi e\,  allo stesso tempo\,  prendendosi cura della[..]\nhttp
 s://www.giacomopoleschi.com/wp/events/dire-no-ricevere-no/
URL:https://www.giacomopoleschi.com/wp/events/dire-no-ricevere-no/
END:VEVENT
END:VCALENDAR